BEGIN:VCALENDAR
VERSION:2.0
PRODID:-//MUSICARTES - ECPv6.15.20//NONSGML v1.0//EN
CALSCALE:GREGORIAN
METHOD:PUBLISH
X-WR-CALNAME:MUSICARTES
X-ORIGINAL-URL:https://musicartes.org
X-WR-CALDESC:Eventos para MUSICARTES
REFRESH-INTERVAL;VALUE=DURATION:PT1H
X-Robots-Tag:noindex
X-PUBLISHED-TTL:PT1H
BEGIN:VTIMEZONE
TZID:America/Guatemala
BEGIN:STANDARD
TZOFFSETFROM:-0600
TZOFFSETTO:-0600
TZNAME:CST
DTSTART:20240101T000000
END:STANDARD
END:VTIMEZONE
BEGIN:VEVENT
DTSTART;TZID=America/Guatemala:20250328T200000
DTEND;TZID=America/Guatemala:20250328T233000
DTSTAMP:20260420T064206
CREATED:20250103T180802Z
LAST-MODIFIED:20250103T180802Z
UID:10680-1743192000-1743204600@musicartes.org
SUMMARY:C.R.O.
DESCRIPTION:Sumérgete en el flow irreverente de C.R.O. y déjate llevar por los beats intensos que harán vibrar la noche.
URL:https://musicartes.org/event/c-r-o/
LOCATION:Cayalá\, Bulevar Rafael Landivar\, Ciudad de Guatemala\, Guatemala\, Guatemala
CATEGORIES:Concierto
ATTACH;FMTTYPE=image/jpeg:https://musicartes.org/wp-content/uploads/2025/01/CRO.jpg
ORGANIZER;CN="Dos Mundos":MAILTO:info@2mundos.shop
END:VEVENT
BEGIN:VEVENT
DTSTART;TZID=America/Guatemala:20250328T200000
DTEND;TZID=America/Guatemala:20250328T233000
DTSTAMP:20260420T064206
CREATED:20250207T013334Z
LAST-MODIFIED:20250207T013334Z
UID:10738-1743192000-1743204600@musicartes.org
SUMMARY:Fuerza Regida
DESCRIPTION:Déjate llevar por el poder del trap regional con Fuerza Regida: una noche explosiva de corridos intensos y flow imparable que revolucionará tu experiencia musical.
URL:https://musicartes.org/event/fuerza-regida/
LOCATION:Estadio Cementos Progreso\, 15 Avenida 28-00\, Zona 6\, La Pedrera\, Guatemala\, Guatemala\, 01006\, Guatemala
CATEGORIES:Concierto
ATTACH;FMTTYPE=image/jpeg:https://musicartes.org/wp-content/uploads/2025/02/Fuerza-Regida.jpg
END:VEVENT
BEGIN:VEVENT
DTSTART;TZID=America/Guatemala:20250328T200000
DTEND;TZID=America/Guatemala:20250328T233000
DTSTAMP:20260420T064206
CREATED:20250226T171706Z
LAST-MODIFIED:20250226T171706Z
UID:10800-1743192000-1743204600@musicartes.org
SUMMARY:Los Auténticos Decadentes
DESCRIPTION:Prepárate para una fiesta inolvidable con Los Auténticos Decadentes\, ¡pura energía\, himnos y alegría para cantar y bailar sin parar!»
URL:https://musicartes.org/event/los-autenticos-decadentes-2/
LOCATION:Parque De La Industria\, 8a. Calle 2-33 Zona 9\, Guatemala\, Guatemala\, 01009\, Guatemala
CATEGORIES:Concierto
ATTACH;FMTTYPE=image/jpeg:https://musicartes.org/wp-content/uploads/2025/02/Los-Autenticos-Decadentes.jpg
END:VEVENT
BEGIN:VEVENT
DTSTART;TZID=America/Guatemala:20250328T200000
DTEND;TZID=America/Guatemala:20250328T233000
DTSTAMP:20260420T064206
CREATED:20250328T005954Z
LAST-MODIFIED:20250328T005954Z
UID:10927-1743192000-1743204600@musicartes.org
SUMMARY:Noche de Dancehall\, Reggae y Afrobeats
DESCRIPTION:Vibra al ritmo de las mejores mezclas con DJ Fla-K.O. en una noche cargada de energía tropical y buenas vibras. La cita es el 28 de marzo de 2025 a las 8:00 PM en Macao Restobar\, ubicado en Flores\, Petén. Ven a bailar y dejarte llevar por los sonidos en una experiencia única.
URL:https://musicartes.org/event/noche-de-dancehall-reggae-y-afrobeats/
LOCATION:Macao Restobar\, Calle Sur\, Zona 0\, Isla de Flores\, Petén\, Guatemala
CATEGORIES:Concierto
ATTACH;FMTTYPE=image/jpeg:https://musicartes.org/wp-content/uploads/2025/03/Dj-Flako-Macao.jpg
END:VEVENT
BEGIN:VEVENT
DTSTART;TZID=America/Guatemala:20250329T173000
DTEND;TZID=America/Guatemala:20250329T230000
DTSTAMP:20260420T064206
CREATED:20250304T171902Z
LAST-MODIFIED:20250304T171902Z
UID:10839-1743269400-1743289200@musicartes.org
SUMMARY:Rockología Vol.2
DESCRIPTION:HONO «atlas» Medicina CUSAM te presenta rockologia 2\, se parte de este gran concierto con las bandas GuatemaltecasBohemia Suburbana Viernes Verde Oficial El Gordo Guatemala (Oficial) el Tambor de la Tribu \nBoletos a la venta en Farmacias Universal
URL:https://musicartes.org/event/rockologia-vol-2/
LOCATION:Complejo Social\, San Marcos\, San Marcos\, Guatemala
CATEGORIES:Concierto
ATTACH;FMTTYPE=image/jpeg:https://musicartes.org/wp-content/uploads/2025/03/Rockologia.jpg
END:VEVENT
BEGIN:VEVENT
DTSTART;TZID=America/Guatemala:20250329T180000
DTEND;TZID=America/Guatemala:20250329T233000
DTSTAMP:20260420T064206
CREATED:20250328T003828Z
LAST-MODIFIED:20250328T003828Z
UID:10924-1743271200-1743291000@musicartes.org
SUMMARY:Remember Rain - Homenaje a Aldo Orozco
DESCRIPTION:Remember Rain: un homenaje poderoso a Aldo Orozco con lo mejor del metal nacional. Disfruta en vivo a Tiranno\, Célula\, Necrópolis y más este 29 de marzo a partir de las 6:00 p.m. en Trova Rock. Una noche cargada de fuerza\, memoria y pasión sonora. ¡No faltes!
URL:https://musicartes.org/event/remember-rain-homenaje-a-aldo-orozco/
LOCATION:TrovaRock\, 6ta Av. 3-39 zona 1\, Guatemala\, Guatemala\, 01001\, Guatemala
CATEGORIES:Concierto
ATTACH;FMTTYPE=image/jpeg:https://musicartes.org/wp-content/uploads/2025/03/Remember-Rain.jpg
END:VEVENT
BEGIN:VEVENT
DTSTART;TZID=America/Guatemala:20250329T190000
DTEND;TZID=America/Guatemala:20250329T233000
DTSTAMP:20260420T064206
CREATED:20250327T213908Z
LAST-MODIFIED:20250327T214119Z
UID:10916-1743274800-1743291000@musicartes.org
SUMMARY:Urban Night
DESCRIPTION:Disfruta de la Urban Night con Filántropo AI\, Mr. Fer y Skylo: una explosión de rimas\, flow y beats que encenderá la ciudad en una sola noche.
URL:https://musicartes.org/event/urban-night/
LOCATION:Casa Club\, 3a ave 12-53 zona 10\, Guatemala\, Guatemala\, 01010\, Guatemala
CATEGORIES:Concierto
ATTACH;FMTTYPE=image/jpeg:https://musicartes.org/wp-content/uploads/2025/03/Urban-Night-Filantropo-Al-Mr-Fer-Skylo-.jpg
END:VEVENT
BEGIN:VEVENT
DTSTART;TZID=America/Guatemala:20250329T200000
DTEND;TZID=America/Guatemala:20250329T233000
DTSTAMP:20260420T064206
CREATED:20250207T022342Z
LAST-MODIFIED:20250207T022342Z
UID:10762-1743278400-1743291000@musicartes.org
SUMMARY:Siddhartha
DESCRIPTION:Descubre una noche transformadora con Siddhartha\, donde la intensidad lírica y la energía musical se fusionan para llevarte en un viaje sonoro inolvidable!
URL:https://musicartes.org/event/siddhartha-2/
LOCATION:Explanada Cayala\, Bulevar Rafael Landívar\, Zona 16\, Guatemala\, Guatemala\, 01016\, Guatemala
CATEGORIES:Concierto
ATTACH;FMTTYPE=image/jpeg:https://musicartes.org/wp-content/uploads/2025/02/Siddhartha.jpg
ORGANIZER;CN="Dos Mundos":MAILTO:info@2mundos.shop
END:VEVENT
BEGIN:VEVENT
DTSTART;TZID=America/Guatemala:20250329T200000
DTEND;TZID=America/Guatemala:20250329T233000
DTSTAMP:20260420T064206
CREATED:20250227T023042Z
LAST-MODIFIED:20250227T023042Z
UID:10830-1743278400-1743291000@musicartes.org
SUMMARY:Zapravka
DESCRIPTION:Sumérgete en la intensidad sonora de Zapravka\, donde la energía y la experimentación musical se unen en una noche inolvidable.
URL:https://musicartes.org/event/zapravka/
LOCATION:El Bosque\, Blvrd Rafael Landivar zona 15\, Guatemala\, Guatemala\, 01015\, Guatemala
CATEGORIES:Concierto
ATTACH;FMTTYPE=image/jpeg:https://musicartes.org/wp-content/uploads/2025/02/Zapravka.jpg
ORGANIZER;CN="Mecca Entertainment":MAILTO:radiosaturn@gmail.com
END:VEVENT
BEGIN:VEVENT
DTSTART;TZID=America/Guatemala:20250330T200000
DTEND;TZID=America/Guatemala:20250330T233000
DTSTAMP:20260420T064206
CREATED:20250207T010928Z
LAST-MODIFIED:20250207T010928Z
UID:10726-1743364800-1743377400@musicartes.org
SUMMARY:India - La Princesa De La Salsa
DESCRIPTION:Sumérgete en el ritmo y la elegancia de India\, La Princesa De La Salsa: ¡una noche vibrante que encenderá tu alma y te invitará a bailar al compás de la pasión!
URL:https://musicartes.org/event/india-la-princesa-de-la-salsa/
LOCATION:Forum Majadas\, 27 Avenida 6-50 zona 11\, Guatemala\, Guatemala\, 01011\, Guatemala
CATEGORIES:Concierto
ATTACH;FMTTYPE=image/jpeg:https://musicartes.org/wp-content/uploads/2025/02/India.jpg
ORGANIZER;CN="JS Producciones":MAILTO:jsproductionsocialmedia@gmail.com
END:VEVENT
BEGIN:VEVENT
DTSTART;TZID=America/Guatemala:20250404T200000
DTEND;TZID=America/Guatemala:20250404T233000
DTSTAMP:20260420T064206
CREATED:20250227T014610Z
LAST-MODIFIED:20250227T014610Z
UID:10811-1743796800-1743809400@musicartes.org
SUMMARY:Ambkor : Rocketman Tour
DESCRIPTION:Déjate llevar por la intensidad y el sentimiento de Ambkor en su Rocketman Tour por Latinoamérica. Una noche de rap\, poesía y emociones a flor de piel que no puedes perderte.
URL:https://musicartes.org/event/ambkor-rocketman-tour/
LOCATION:Alianza Francesa Guatemala\, 5a Calle 10-55 Zona 13 Finca La Aurora\, Guatemala\, Guatemala\, 01013\, Guatemala
CATEGORIES:Concierto
ATTACH;FMTTYPE=image/jpeg:https://musicartes.org/wp-content/uploads/2025/02/Ambkor.jpg
ORGANIZER;CN="Quantum Label":MAILTO:nfoquantumlabel@gmail.com
END:VEVENT
BEGIN:VEVENT
DTSTART;TZID=America/Guatemala:20250404T200000
DTEND;TZID=America/Guatemala:20250404T233000
DTSTAMP:20260420T064206
CREATED:20250328T010726Z
LAST-MODIFIED:20250328T010726Z
UID:10931-1743796800-1743809400@musicartes.org
SUMMARY:Vibes Paradise
DESCRIPTION:Vibes Paradise llega para encender la noche con lo mejor del dancehall\, reggae y afrobeats. DJ Fla-K.O. y Dimelokikee  se unen en un line up explosivo que promete hacerte bailar sin parar. La cita es el 04 de abril de 2025 a las 8:00 PM en El Ataque\, zona 4. Una noche cargada de ritmo\, sabor y buena vibra que no te podés perder. \n \n 
URL:https://musicartes.org/event/vibes-paradise/
LOCATION:El Ataque\, Ruta 1 3-63 Villa Paula zona 4\, Guatemala\, 01004\, Guatemala
CATEGORIES:Concierto
ATTACH;FMTTYPE=image/jpeg:https://musicartes.org/wp-content/uploads/2025/03/Vibes-Paradise-DJ-Fla-K.O.jpg
END:VEVENT
BEGIN:VEVENT
DTSTART;TZID=America/Guatemala:20250406T200000
DTEND;TZID=America/Guatemala:20250406T233000
DTSTAMP:20260420T064206
CREATED:20250227T015200Z
LAST-MODIFIED:20250227T015200Z
UID:10814-1743969600-1743982200@musicartes.org
SUMMARY:LEE EYE
DESCRIPTION:LEE EYE\, la polifacética artista colombiana\, visita por primera vez la Ciudad de Guatemala comoparte de su TPM World Tour 25
URL:https://musicartes.org/event/lee-eye/
LOCATION:El Ataque\, Ruta 1 3-63 Villa Paula zona 4\, Guatemala\, 01004\, Guatemala
CATEGORIES:Concierto
ATTACH;FMTTYPE=image/jpeg:https://musicartes.org/wp-content/uploads/2025/02/Lee-Eye.jpg
ORGANIZER;CN="Quantum Label":MAILTO:nfoquantumlabel@gmail.com
END:VEVENT
BEGIN:VEVENT
DTSTART;TZID=America/Guatemala:20250412T190000
DTEND;TZID=America/Guatemala:20250412T233000
DTSTAMP:20260420T064206
CREATED:20250328T014416Z
LAST-MODIFIED:20250328T014416Z
UID:10937-1744484400-1744500600@musicartes.org
SUMMARY:Héctor & Friends 2
DESCRIPTION:Héctor & Friends es una celebración de talento y hermandad musical\, con un line up imperdible que reúne a Alejandro Alvarado\, Jemial Mijangos\, Room\, All Gonzalez\, Reynaldo Gaytán\, Josue Cifuentes\, Gandy Noj y Wacha. La cita es el 12 de abril a las 7:00 PM en el Salón de Espectáculos Las Morenas\, para vivir una noche cargada de emociones\, conexión y música hecha desde el alma. \n \n 
URL:https://musicartes.org/event/hector-friends-2/
LOCATION:Centro de Eventos Las Morenas\, Retalhuleu\, Guatemala
CATEGORIES:Concierto,Festival
ATTACH;FMTTYPE=image/jpeg:https://musicartes.org/wp-content/uploads/2025/03/Hector-Friends.jpg
END:VEVENT
BEGIN:VEVENT
DTSTART;TZID=America/Guatemala:20250416T180000
DTEND;TZID=America/Guatemala:20250416T233000
DTSTAMP:20260420T064206
CREATED:20250413T192119Z
LAST-MODIFIED:20250413T192119Z
UID:10965-1744826400-1744846200@musicartes.org
SUMMARY:Gallo Evolution 2025
DESCRIPTION:Gallo Evolution presenta una noche épica con Carlos Vives y Danny Ocean\, dos gigantes de la música latina reunidos en un mismo escenario. La cita es el 16 de abril a partir de las 6:00 PM en el Super 24 km 100\, Puerto San José. Prepárate para vibrar con ritmo\, energía y sabor. \n 
URL:https://musicartes.org/event/gallo-evolution-2025/
LOCATION:Super 24\, Puerto San José\, San José\, Escuintla\, 05009\, Guatemala
CATEGORIES:Concierto
ATTACH;FMTTYPE=image/jpeg:https://musicartes.org/wp-content/uploads/2025/04/Gallo-Evolution.jpg
ORGANIZER;CN="ASA Promotions":MAILTO:contact@asa-promotions.com
END:VEVENT
BEGIN:VEVENT
DTSTART;TZID=America/Guatemala:20250419T080000
DTEND;TZID=America/Guatemala:20250419T170000
DTSTAMP:20260420T064206
CREATED:20250413T193752Z
LAST-MODIFIED:20250413T193752Z
UID:10969-1745049600-1745082000@musicartes.org
SUMMARY:Gira Refrescante Pepsi 2025
DESCRIPTION:¡La Fiesta de Verano será el 19 de abril en el Kilómetro 96.5 Camino a Puerto Quetzal! La edición de la Gira Refrescante Pepsi en el Puerto San José nos trae a Morat\, Boza\, Ryan Castro\, Arcángel\, Kapo y tus artistas nacionales favoritos: Ale Mendoza\, Zelaya\, Wongraphy\, Mezz\, Kontra Marin\, Zaravia\, Dovella\, Bellakeopuntocom y Pardo Pardo.
URL:https://musicartes.org/event/gira-refrescante-pepsi-2025/
LOCATION:Km 96 Puerto Quetzal
CATEGORIES:Concierto
ATTACH;FMTTYPE=image/jpeg:https://musicartes.org/wp-content/uploads/2025/04/Gira-Refrescante-Pepsi-Morat-Arcangel-Boza-Ryan-Castro-Kapo-Ale-Mendoza-Wongraphy-Mezz-Kontra-Marin-Zelaya-Zaravia-Dovella-Bellakeopuntocom-Pardo-Pardo.jpg
END:VEVENT
BEGIN:VEVENT
DTSTART;TZID=America/Guatemala:20250424T200000
DTEND;TZID=America/Guatemala:20250424T233000
DTSTAMP:20260420T064206
CREATED:20250207T015123Z
LAST-MODIFIED:20250207T015123Z
UID:10747-1745524800-1745537400@musicartes.org
SUMMARY:Melendi
DESCRIPTION:Embárcate en una experiencia única con Melendi\, donde cada acorde te transporta a un viaje musical lleno de pasión y autenticidad. ¡Una noche imperdible te espera!
URL:https://musicartes.org/event/melendi/
LOCATION:Forum Majadas\, 27 Avenida 6-50 zona 11\, Guatemala\, Guatemala\, 01011\, Guatemala
CATEGORIES:Concierto
ATTACH;FMTTYPE=image/jpeg:https://musicartes.org/wp-content/uploads/2025/02/Melendi.jpg
ORGANIZER;CN="ASA Promotions":MAILTO:contact@asa-promotions.com
END:VEVENT
BEGIN:VEVENT
DTSTART;TZID=America/Guatemala:20250425T190000
DTEND;TZID=America/Guatemala:20250425T210000
DTSTAMP:20260420T064206
CREATED:20250413T185327Z
LAST-MODIFIED:20250413T185327Z
UID:10955-1745607600-1745614800@musicartes.org
SUMMARY:La guitarra a través de la historia
DESCRIPTION:La guitarra a través de la historia es una experiencia que combina conferencia y concierto para recorrer la evolución de este instrumento icónico. Acompáñanos el 25 de abril a las 7:00 PM en el Teatro Manuel Galich de la Universidad Popular (10 calle 10-32\, zona 1\, Ciudad de Guatemala) y déjate llevar por los sonidos que marcaron distintas épocas.
URL:https://musicartes.org/event/la-guitarra-a-traves-de-la-historia/
LOCATION:Teatro Manuel Galich\, Universidad Popular 10 calle 10-32 zona 1\, Guatemala\, Guatemala\, 01001\, Guatemala
CATEGORIES:Concierto
ATTACH;FMTTYPE=image/jpeg:https://musicartes.org/wp-content/uploads/2025/04/La-guitarra-a-traves-de-la-historia-30639c3511455a84c92930a850c164bf.jpg
END:VEVENT
BEGIN:VEVENT
DTSTART;TZID=America/Guatemala:20250425T200000
DTEND;TZID=America/Guatemala:20250425T233000
DTSTAMP:20260420T064206
CREATED:20250103T174924Z
LAST-MODIFIED:20250103T174924Z
UID:10674-1745611200-1745623800@musicartes.org
SUMMARY:Tiago PZK
DESCRIPTION:Siente la fuerza del trap con TIAGO PZK\, ¡una noche llena de flow y adrenalina que no querrás perderte!»
URL:https://musicartes.org/event/tiago-pzk/
LOCATION:Forum Majadas\, 27 Avenida 6-50 zona 11\, Guatemala\, Guatemala\, 01011\, Guatemala
CATEGORIES:Concierto
ATTACH;FMTTYPE=image/jpeg:https://musicartes.org/wp-content/uploads/2025/01/Tiago.jpg
ORGANIZER;CN="ASA Promotions":MAILTO:contact@asa-promotions.com
END:VEVENT
BEGIN:VEVENT
DTSTART;TZID=America/Guatemala:20250427T200000
DTEND;TZID=America/Guatemala:20250427T233000
DTSTAMP:20260420T064206
CREATED:20250304T181041Z
LAST-MODIFIED:20250304T181041Z
UID:10855-1745784000-1745796600@musicartes.org
SUMMARY:Epicentro Showcase
DESCRIPTION:Este es momento para demostrar que la música local importa; amplifiquemos las voces de nuestros artistas que están dando forma al futuro de la música guatemalteca. Disfruta de shows increíbles y música nueva mientras contribuyes a fortalecer nuestra comunidad. \nImpulsando la economía local\, invirtiendo en nuestro talento. Brindando oportunidades para artistas emergentes y construyendo una escena cultural vibrante que hable de nuestra identidad única.
URL:https://musicartes.org/event/epicentro-showcase/
LOCATION:Alianza Francesa Guatemala\, 5a Calle 10-55 Zona 13 Finca La Aurora\, Guatemala\, Guatemala\, 01013\, Guatemala
CATEGORIES:Concierto
ATTACH;FMTTYPE=image/jpeg:https://musicartes.org/wp-content/uploads/2025/03/Screen-Shot-2025-03-04-at-12.07.11-PM.jpg
END:VEVENT
BEGIN:VEVENT
DTSTART;TZID=America/Guatemala:20250502T200000
DTEND;TZID=America/Guatemala:20250502T233000
DTSTAMP:20260420T064206
CREATED:20250227T021219Z
LAST-MODIFIED:20250227T021219Z
UID:10820-1746216000-1746228600@musicartes.org
SUMMARY:Touché Amoré
DESCRIPTION:Vive la intensidad y la emoción de Touché Amoré en una noche cargada de post-hardcore puro\, donde cada grito y acorde retumbará en tu alma.
URL:https://musicartes.org/event/touche-amore/
LOCATION:Lianas Theater & Club\, Ruta 1\, Ciudad de Guatemala\, Guatemala\, 01004\, Guatemala
CATEGORIES:Concierto
ATTACH;FMTTYPE=image/jpeg:https://musicartes.org/wp-content/uploads/2025/02/Touche-Amore.jpg
ORGANIZER;CN="Dos Mundos":MAILTO:info@2mundos.shop
END:VEVENT
BEGIN:VEVENT
DTSTART;TZID=America/Guatemala:20250503T193000
DTEND;TZID=America/Guatemala:20250503T233000
DTSTAMP:20260420T064206
CREATED:20250227T012128Z
LAST-MODIFIED:20250227T012128Z
UID:10807-1746300600-1746315000@musicartes.org
SUMMARY:Sharif & Rafael Lechowski
DESCRIPTION:Vive una noche de poesía y rimas con Sharif y Rafael Lechowski\, en un encuentro único donde la palabra cobra vida. Invitado especial: Charles Ans\, para completar una velada inolvidable llena de profundidad y estilo.
URL:https://musicartes.org/event/sharif-rafael-lechowski/
LOCATION:Alianza Francesa Guatemala\, 5a Calle 10-55 Zona 13 Finca La Aurora\, Guatemala\, Guatemala\, 01013\, Guatemala
CATEGORIES:Concierto
ATTACH;FMTTYPE=image/jpeg:https://musicartes.org/wp-content/uploads/2025/02/Sharif-Rafael-Lechowski-Charles-Ans.jpg
ORGANIZER;CN="Quantum Label":MAILTO:nfoquantumlabel@gmail.com
END:VEVENT
BEGIN:VEVENT
DTSTART;TZID=America/Guatemala:20250509T200000
DTEND;TZID=America/Guatemala:20250509T233000
DTSTAMP:20260420T064206
CREATED:20250328T015156Z
LAST-MODIFIED:20250328T015156Z
UID:10946-1746820800-1746833400@musicartes.org
SUMMARY:Bohemia Suburbana
DESCRIPTION:Bohemia Suburbana presenta Fiel a la Miel\, su nuevo álbum\, en una noche histórica cargada de rock\, pasión y nuevas canciones. La cita es el viernes 09 de mayo a las 8:00 PM en el Gran Teatro Delirio\, para vivir juntos el próximo capítulo de una de las bandas más emblemáticas del país. \n 
URL:https://musicartes.org/event/bohemia-suburbana-3/
LOCATION:Gran Teatro Delirio\, Km 7.5 Final Bulevar Los Proceres Zona 10\, Guatemala\, Guatemala\, 01010\, Guatemala
CATEGORIES:Concierto,Lanzamiento
ATTACH;FMTTYPE=image/jpeg:https://musicartes.org/wp-content/uploads/2025/03/Bohemia-Suburbana.jpg
END:VEVENT
BEGIN:VEVENT
DTSTART;TZID=America/Guatemala:20250517T150000
DTEND;TZID=America/Guatemala:20250517T233000
DTSTAMP:20260420T064206
CREATED:20250515T030311Z
LAST-MODIFIED:20250515T030311Z
UID:11183-1747494000-1747524600@musicartes.org
SUMMARY:Fight The Power
DESCRIPTION:TrovaRock Guatemala se llena de música\, varias escenas de la música local en un festival cargado de buena vibra\, músicón y adrenalina! Age Of Insanity WRONG LEGA Stereofunnycos VOID Malverso Lil Martínez Kairos Music GT Caballero Negro GTJoselo Arriaza\, FilantropoAI y los anfitriones Antisistema y Tiranno Gt. Artistas invitados: Roberto Mora de Extinción Mauricio Orozco ex Stygma @_Asstroo de Los Mauros y Gavirus
URL:https://musicartes.org/event/fight-the-power/
LOCATION:TrovaRock\, 6ta Av. 3-39 zona 1\, Guatemala\, Guatemala\, 01001\, Guatemala
CATEGORIES:Concierto
ATTACH;FMTTYPE=image/jpeg:https://musicartes.org/wp-content/uploads/2025/05/Fight-The-Power.jpg
END:VEVENT
BEGIN:VEVENT
DTSTART;TZID=America/Guatemala:20250517T200000
DTEND;TZID=America/Guatemala:20250517T233000
DTSTAMP:20260420T064206
CREATED:20250207T023700Z
LAST-MODIFIED:20250207T025305Z
UID:10768-1747512000-1747524600@musicartes.org
SUMMARY:Fernando Delgadillo & Alejandro Filio
DESCRIPTION:Sumérgete en una velada única con Fernando Delgadillo y Alejandro Filio\, donde la poesía se convierte en melodía y cada acorde te inspira a redescubrir la magia de la vida.
URL:https://musicartes.org/event/fernando-delgadillo-alejandro-filio/
LOCATION:Forum Majadas\, 27 Avenida 6-50 zona 11\, Guatemala\, Guatemala\, 01011\, Guatemala
CATEGORIES:Concierto
ATTACH;FMTTYPE=image/jpeg:https://musicartes.org/wp-content/uploads/2025/02/Alejandro-Filio-y-Fernando-Delgadillo.jpg
ORGANIZER;CN="JS Producciones":MAILTO:jsproductionsocialmedia@gmail.com
END:VEVENT
BEGIN:VEVENT
DTSTART;TZID=America/Guatemala:20250518T140000
DTEND;TZID=America/Guatemala:20250518T160000
DTSTAMP:20260420T064206
CREATED:20250328T012252Z
LAST-MODIFIED:20250328T012252Z
UID:10934-1747576800-1747584000@musicartes.org
SUMMARY:Sofi Miranda
DESCRIPTION:Déjate envolver por la sensibilidad y fuerza de Sofi Miranda\, en una noche donde la canción se convierte en refugio y la emoción en protagonista. La cita es el 30 de marzo en Restaurante Montecasino\, para disfrutar de una tarde íntima llena de música y sentimiento.
URL:https://musicartes.org/event/sofi-miranda/
LOCATION:Restaurante Montecasino\, Km. 34 carretera de Antigua a Ciudad de Guatemala\, Santa Lucía Milpas Altas\, Guatemala\, Guatemala
CATEGORIES:Concierto
ATTACH;FMTTYPE=image/jpeg:https://musicartes.org/wp-content/uploads/2025/03/Sofi-Miranda.jpg
END:VEVENT
BEGIN:VEVENT
DTSTART;TZID=America/Guatemala:20250520T200000
DTEND;TZID=America/Guatemala:20250520T233000
DTSTAMP:20260420T064206
CREATED:20250514T015026Z
LAST-MODIFIED:20250514T180248Z
UID:11155-1747771200-1747783800@musicartes.org
SUMMARY:Paloma San Basilio
DESCRIPTION:Paloma San Basilio se despide de los escenarios con su Gracias Tour\, ofreciendo una noche inolvidable llena de emociones y grandes éxitos. La cita es el martes 20 de mayo de 2025 a las 8:00 PM en el Expocenter del Grand Tikal Futura Hotel\, zona 11 de Ciudad de Guatemala.
URL:https://musicartes.org/event/paloma-san-basilio/
LOCATION:Tikal Futura\, Calzada Roosevelt 22-43\, Guatemala 01011\, Guatemala\, Guatemala\, 01011\, Guatemala
CATEGORIES:Concierto
ATTACH;FMTTYPE=image/jpeg:https://musicartes.org/wp-content/uploads/2025/05/Paloma-San-Basilio.jpg
END:VEVENT
BEGIN:VEVENT
DTSTART;TZID=America/Guatemala:20250523T200000
DTEND;TZID=America/Guatemala:20250523T233000
DTSTAMP:20260420T064206
CREATED:20250513T191238Z
LAST-MODIFIED:20250513T191238Z
UID:11142-1748030400-1748043000@musicartes.org
SUMMARY:Pimpinela
DESCRIPTION:Pimpinela regresa a Guatemala con su gira Noticias del Amor\, ofreciendo una noche llena de emociones y clásicos inolvidables. La cita es el viernes 23 de mayo de 2025 a las 8:00 PM en el Fórum Majadas\, zona 11 de Ciudad de Guatemala.
URL:https://musicartes.org/event/pimpinela/
LOCATION:Forum Majadas\, 27 Avenida 6-50 zona 11\, Guatemala\, Guatemala\, 01011\, Guatemala
CATEGORIES:Concierto
ATTACH;FMTTYPE=image/jpeg:https://musicartes.org/wp-content/uploads/2025/05/Pimpinela.jpg
END:VEVENT
BEGIN:VEVENT
DTSTART;TZID=America/Guatemala:20250524T180000
DTEND;TZID=America/Guatemala:20250524T233000
DTSTAMP:20260420T064206
CREATED:20250514T181513Z
LAST-MODIFIED:20250514T181513Z
UID:11173-1748109600-1748129400@musicartes.org
SUMMARY:Gondwana
DESCRIPTION:Gondwana regresa a Guatemala con su gira Mañana Vuelve a Ser Hoy Tour 2025\, presentándose el sábado 24 de mayo a las 6:00 PM en la Ermita de la Santa Cruz\, Antigua Guatemala . Una noche para vibrar con clásicos como «Sentimiento Original»\, «Armonía de Amor» y «Verde\, Amarillo y Rojo»
URL:https://musicartes.org/event/gondwana-2/
LOCATION:La Ermita de la Santa Cruz\, Calle Chipilapas\, Antigua Guatemala\, Sacatepequez\, Guatemala
CATEGORIES:Concierto
ATTACH;FMTTYPE=image/jpeg:https://musicartes.org/wp-content/uploads/2025/05/Gondwana.jpg
ORGANIZER;CN="Latin Vox":MAILTO:comercial@latinvox.gt
END:VEVENT
BEGIN:VEVENT
DTSTART;TZID=America/Guatemala:20250529T200000
DTEND;TZID=America/Guatemala:20250529T233000
DTSTAMP:20260420T064206
CREATED:20250514T180418Z
LAST-MODIFIED:20250514T180418Z
UID:11168-1748548800-1748561400@musicartes.org
SUMMARY:Juan Bau & Jeanette
DESCRIPTION:Juan Bau y Jeanette celebran su Gira Mundial 50 Aniversario con un concierto especial el jueves 29 de mayo de 2025 a las 8:00 PM en el Auditorio Visión\, zona 14 de Ciudad de Guatemala. Una noche para revivir grandes clásicos del pop melódico como «Porque te vas»\, «La estrella de David» y «Soy rebelde».
URL:https://musicartes.org/event/juan-bau-jeanette/
LOCATION:Auditorio Visión\, Universidad San Pablo 4A Calle 23-03 zona 14\, Guatemala\, Guatemala\, 01014\, Guatemala
CATEGORIES:Concierto
ATTACH;FMTTYPE=image/jpeg:https://musicartes.org/wp-content/uploads/2025/05/Juan-Bau-Jeanette.jpg
END:VEVENT
END:VCALENDAR