BEGIN:VCALENDAR
VERSION:2.0
PRODID:-//MUSICARTES - ECPv6.15.20//NONSGML v1.0//EN
CALSCALE:GREGORIAN
METHOD:PUBLISH
X-ORIGINAL-URL:https://musicartes.org
X-WR-CALDESC:Eventos para MUSICARTES
REFRESH-INTERVAL;VALUE=DURATION:PT1H
X-Robots-Tag:noindex
X-PUBLISHED-TTL:PT1H
BEGIN:VTIMEZONE
TZID:America/Guatemala
BEGIN:STANDARD
TZOFFSETFROM:-0600
TZOFFSETTO:-0600
TZNAME:CST
DTSTART:20190101T000000
END:STANDARD
END:VTIMEZONE
BEGIN:VEVENT
DTSTART;TZID=America/Guatemala:20200421T130000
DTEND;TZID=America/Guatemala:20200421T140000
DTSTAMP:20260424T085850
CREATED:20200417T203120Z
LAST-MODIFIED:20200417T203120Z
UID:3439-1587474000-1587477600@musicartes.org
SUMMARY:Monitor Latino Webinar : La Música Durante y Después Del Coronavirus
DESCRIPTION:Presentado por Poncho Lizárraga y Wisin
URL:https://musicartes.org/event/monitor-latino-webinar-la-musica-durante-y-despues-del-coronavirus/
LOCATION:Tu Casa\, Guatemala
CATEGORIES:Livestream,Taller
ATTACH;FMTTYPE=image/jpeg:https://musicartes.org/wp-content/uploads/2020/04/MonitorLatino.jpg
END:VEVENT
BEGIN:VEVENT
DTSTART;TZID=America/Guatemala:20200427T203000
DTEND;TZID=America/Guatemala:20200427T220000
DTSTAMP:20260424T085850
CREATED:20200427T183145Z
LAST-MODIFIED:20200427T183145Z
UID:3622-1588019400-1588024800@musicartes.org
SUMMARY:Charla Online : La Música En El Teatro
DESCRIPTION:Como ponentes: Roberto Estrada y Paulo Alvarado (GT) \nInvitado: José Galván (MX)
URL:https://musicartes.org/event/charla-online-la-musica-en-el-teatro/
LOCATION:Tu Casa\, Guatemala
CATEGORIES:Livestream,Taller
ATTACH;FMTTYPE=image/jpeg:https://musicartes.org/wp-content/uploads/2020/04/La-Música-En-El-Teatro.jpg
END:VEVENT
BEGIN:VEVENT
DTSTART;TZID=America/Guatemala:20200611T190000
DTEND;TZID=America/Guatemala:20200611T200000
DTSTAMP:20260424T085850
CREATED:20200609T224631Z
LAST-MODIFIED:20200609T224631Z
UID:4091-1591902000-1591905600@musicartes.org
SUMMARY:Taller: 10 Pasos Para Ser Un Cantante Profesional
DESCRIPTION:Un taller enfocado para cantantes. También es de utilidad para músicos profesionales para conocer un poco más acerca de la formación de un artista vocal.
URL:https://musicartes.org/event/taller-10-pasos-para-ser-un-cantante-profesional/
LOCATION:Tu Casa\, Guatemala
CATEGORIES:MasterClass,Taller
ATTACH;FMTTYPE=image/jpeg:https://musicartes.org/wp-content/uploads/2020/06/Taller-Canto-.jpg
END:VEVENT
BEGIN:VEVENT
DTSTART;TZID=America/Guatemala:20200617T110000
DTEND;TZID=America/Guatemala:20200617T130000
DTSTAMP:20260424T085850
CREATED:20200602T232728Z
LAST-MODIFIED:20200602T234030Z
UID:4020-1592391600-1592398800@musicartes.org
SUMMARY:Viviendo El Sueño del Estudio De Grabación Profesional
DESCRIPTION:En estos tiempos de confinamiento\, es muy importante mantenernos activos mental y físicamente\, así como capacitarnos y hacernos mejores en lo que hacemos para que cuando regresemos a la normalidad\, estemos mejor preparados para los nuevos retos que depara el futuro. \nPara Musicartes es muy importante brindar todas las herramientas necesarias para que nuestros asociados y gremio en general obtenga estos beneficios que forman parte de nuestros programas sociales culturales. \nSigamos apoyando y construyendo nuestra industria en Guatemala\, esperamos pronto podamos volver a compartir nuestra música en los escenarios que se mantienen apagados en estos momentos de crisis global. \nEste webinar será de suma importancia para agregar valor a nuestra carrera como músicos intérpretes y productores musicales. \nEl Argentino Sergio Molho es un ejecutivo y desarrollador global de alto reconocimiento en la industria del audio y video\, además es músico\, productor y compositor\, su trayectoria lo convierte en uno de los personajes más completos\, sólidos e integrales de la industria en Latinoamérica. \nEs socio y desarrollador de negocios global de una de las compañías más importantes y reconocidas en el diseño e integración tecnológica de estudios de grabación profesionales WSDG.
URL:https://musicartes.org/event/viviendo-el-sueno-del-estudio-de-grabacion-profesional/
LOCATION:Tu Casa\, Guatemala
CATEGORIES:Livestream,Taller
ATTACH;FMTTYPE=image/jpeg:https://musicartes.org/wp-content/uploads/2020/06/Sergio-Molho.jpg
END:VEVENT
BEGIN:VEVENT
DTSTART;TZID=America/Guatemala:20200713T150000
DTEND;TZID=America/Guatemala:20200713T170000
DTSTAMP:20260424T085850
CREATED:20200630T220449Z
LAST-MODIFIED:20200630T220449Z
UID:4252-1594652400-1594659600@musicartes.org
SUMMARY:Los Nuevos Retos De La Industria - Manu Moreno
DESCRIPTION:Estaremos conversando junto al Grammy Winner Manu Moreno desde México sobre «Los Nuevos Retos De La Industria». \nSe compartirán experiencias y grandes consejos para seguir creciendo e innovando como artistas dentro de la Industria de La Música. \nNo te pierdas este LIVE en nuestro Fan Page\, prepara tus preguntas y atrévete a realizar los cambios que te llevarán a la fama y al éxito con tu música.
URL:https://musicartes.org/event/los-nuevos-retos-de-la-industria-manu-moreno/
LOCATION:Tu Casa\, Guatemala
CATEGORIES:Livestream,Taller
ATTACH;FMTTYPE=image/jpeg:https://musicartes.org/wp-content/uploads/2020/06/Manu-Moreno.jpg
END:VEVENT
BEGIN:VEVENT
DTSTART;TZID=America/Guatemala:20200810T110000
DTEND;TZID=America/Guatemala:20200810T123000
DTSTAMP:20260424T085850
CREATED:20200806T172432Z
LAST-MODIFIED:20200806T172445Z
UID:4505-1597057200-1597062600@musicartes.org
SUMMARY:Taller: Edición de Video en Casa
DESCRIPTION:Chejo Enriquez fundador y productor de Arte Positivo\, nos dará una conferencia donde compartirá herramientas importantes para la edición de video desde casa\, para que los artistas podamos seguir creando contenido de calidad y mejorar la promoción de nuestra música. Adquiere tu acceso en Eventbrite\, todos los fondos serán destinados al expositor. USD1.99 + gastos de Eventbrite.
URL:https://musicartes.org/event/edicion-de-video-en-casa/
CATEGORIES:Livestream,Taller
ATTACH;FMTTYPE=image/jpeg:https://musicartes.org/wp-content/uploads/2020/08/Chejo-Enriquez.jpg
END:VEVENT
BEGIN:VEVENT
DTSTART;TZID=America/Guatemala:20200824T170000
DTEND;TZID=America/Guatemala:20200824T180000
DTSTAMP:20260424T085850
CREATED:20200824T222443Z
LAST-MODIFIED:20200824T222443Z
UID:4647-1598288400-1598292000@musicartes.org
SUMMARY:Compartiendo Emociones A Través De La Música
DESCRIPTION:Taller interactivo dirigido a compositores\, cantautores y músicos aficionados. Nos estarán acompañando Rosse Aguilar (Saxofonista) y Víctor Arriaza (Pianista)\, exbecarios #JazzCamp expresa tus emociones a través de la composición y la música
URL:https://musicartes.org/event/compartiendo-emociones-a-traves-de-la-musica/
CATEGORIES:Livestream,Taller
ATTACH;FMTTYPE=image/jpeg:https://musicartes.org/wp-content/uploads/2020/08/AJED.jpg
END:VEVENT
BEGIN:VEVENT
DTSTART;TZID=America/Guatemala:20200831T210000
DTEND;TZID=America/Guatemala:20200831T220000
DTSTAMP:20260424T085850
CREATED:20200825T044845Z
LAST-MODIFIED:20200825T044845Z
UID:4650-1598907600-1598911200@musicartes.org
SUMMARY:SSL Production Pack
DESCRIPTION:Demostración del paquete de software incluido en las interfaces SSL2 y SSL2+ \nPablo León y Chris Adams (SSL)
URL:https://musicartes.org/event/ssl-production-pack/
CATEGORIES:Livestream,Taller
ATTACH;FMTTYPE=image/jpeg:https://musicartes.org/wp-content/uploads/2020/08/SSL.jpg
END:VEVENT
BEGIN:VEVENT
DTSTART;TZID=America/Guatemala:20200914T080000
DTEND;TZID=America/Guatemala:20200914T170000
DTSTAMP:20260424T085850
CREATED:20200827T225939Z
LAST-MODIFIED:20200827T225939Z
UID:4671-1600070400-1600102800@musicartes.org
SUMMARY:Webinar: Música Activa
DESCRIPTION:Enseñanza en línea de la música aplicada a bandas y otros ensambles musicales. \nImpartido por Omar Morales (Panamá) \nWebinar enfocado en el desarrollo efectivo de diferentes ensambles instrumentales a través de un Ambiente Virtual de Aprendizaje (AVA) \nTemas a tratar: \n\nMetodología Colectiva (Sound Innovations)\nPlataformas Digitales\nDiseño instruccional de Videos Colaborativos (bandas y ensambles musicales)\n\n  \nSolicita tu acceso a info.famus@udv.edu.gt o completando el formulario del link de abajo. CUPO LIMITADO \nCon el apoyo de LAMW \n 
URL:https://musicartes.org/event/webinar-musica-activa/
CATEGORIES:Livestream,Taller
ATTACH;FMTTYPE=image/jpeg:https://musicartes.org/wp-content/uploads/2020/08/Da-Vinci-1.jpg
ORGANIZER;CN="Universidad Da Vinci":MAILTO:info.famus@udv.edu.gt
END:VEVENT
BEGIN:VEVENT
DTSTART;TZID=America/Guatemala:20200916T110000
DTEND;TZID=America/Guatemala:20200916T130000
DTSTAMP:20260424T085850
CREATED:20200910T003623Z
LAST-MODIFIED:20200910T003623Z
UID:4864-1600254000-1600261200@musicartes.org
SUMMARY:Live Empresa de Monitoreo BMAT
DESCRIPTION:En este LIVE estaremos hablando directamente con parte del equipo de la compañía española BMAT\, empresa líder en innovación tecnológica para el monitoreo de música en el mundo entero.\nExplicaremos como en AGINPRO hacemos uso de BMAT y sus sistemas VERICAST para el monitoreo de música en Guatemala.\n¡Los esperamos!
URL:https://musicartes.org/event/live-empresa-de-monitoreo-bmat/
CATEGORIES:Livestream,Taller
ATTACH;FMTTYPE=image/jpeg:https://musicartes.org/wp-content/uploads/2020/09/bmat.jpg
ORGANIZER;CN="Aginpro":MAILTO:https://aginpro.com/
END:VEVENT
BEGIN:VEVENT
DTSTART;TZID=America/Guatemala:20200917T180000
DTEND;TZID=America/Guatemala:20200917T190000
DTSTAMP:20260424T085850
CREATED:20200828T013349Z
LAST-MODIFIED:20200828T013349Z
UID:4678-1600365600-1600369200@musicartes.org
SUMMARY:Taller virtual: Educación financiera dirigida a artistas
DESCRIPTION:Impartido por Gilmar Mejía \n  \n 
URL:https://musicartes.org/event/taller-virtual-educacion-financiera-dirigida-a-artistas/
CATEGORIES:Livestream,Taller
ATTACH;FMTTYPE=image/jpeg:https://musicartes.org/wp-content/uploads/2020/08/Da-Vinci-3.jpg
ORGANIZER;CN="Universidad Da Vinci":MAILTO:info.famus@udv.edu.gt
END:VEVENT
BEGIN:VEVENT
DTSTART;TZID=America/Guatemala:20200924T180000
DTEND;TZID=America/Guatemala:20200924T190000
DTSTAMP:20260424T085850
CREATED:20200828T012753Z
LAST-MODIFIED:20200828T012753Z
UID:4675-1600970400-1600974000@musicartes.org
SUMMARY:Taller Virtual: El Piano en la Música Popular y Tropical
DESCRIPTION:En este taller\, el maestro Sélvin López hablará sobre la rearmonización y arreglo básico para canciones populares y de los fundamentos del piano en la música tropical como la cumbia y el merengue.
URL:https://musicartes.org/event/taller-virtual-el-piano-en-la-musica-popular-y-tropical/
CATEGORIES:Livestream,Taller
ATTACH;FMTTYPE=image/jpeg:https://musicartes.org/wp-content/uploads/2020/08/Da-Vinci-2.jpg
ORGANIZER;CN="Universidad Da Vinci":MAILTO:info.famus@udv.edu.gt
END:VEVENT
BEGIN:VEVENT
DTSTART;TZID=America/Guatemala:20201001T180000
DTEND;TZID=America/Guatemala:20201001T190000
DTSTAMP:20260424T085850
CREATED:20200903T170326Z
LAST-MODIFIED:20200903T170326Z
UID:4777-1601575200-1601578800@musicartes.org
SUMMARY:Taller Virtual: Ideas\, aplicaciones y metodologías para la educación musical en línea
DESCRIPTION:
URL:https://musicartes.org/event/taller-virtual-ideas-aplicaciones-y-metodologias-para-la-educacion-musical-en-linea/
CATEGORIES:Livestream,Taller
ATTACH;FMTTYPE=image/jpeg:https://musicartes.org/wp-content/uploads/2020/09/Educacion-musical-en-linea.jpg
ORGANIZER;CN="Universidad Da Vinci":MAILTO:info.famus@udv.edu.gt
END:VEVENT
BEGIN:VEVENT
DTSTART;TZID=America/Guatemala:20201006T180000
DTEND;TZID=America/Guatemala:20201006T190000
DTSTAMP:20260424T085850
CREATED:20200928T172510Z
LAST-MODIFIED:20200928T172510Z
UID:4914-1602007200-1602010800@musicartes.org
SUMMARY:Taller Virtual: Marketing Musical
DESCRIPTION:La Facultad de Música y Artes Visuales trae un nuevo taller\, es gratuito y estará a cargo del reconocido cantautor y experto en Marketing Digital Francisco Paez\, si desea participar puede solicitar el link de acceso aquí
URL:https://musicartes.org/event/taller-virtual-marketing-musical/
CATEGORIES:Livestream,Taller
ATTACH;FMTTYPE=image/jpeg:https://musicartes.org/wp-content/uploads/2020/09/Marketing-Musical-UDV.jpg
ORGANIZER;CN="Universidad Da Vinci":MAILTO:info.famus@udv.edu.gt
END:VEVENT
BEGIN:VEVENT
DTSTART;TZID=America/Guatemala:20201117T180000
DTEND;TZID=America/Guatemala:20201117T190000
DTSTAMP:20260424T085850
CREATED:20200903T165151Z
LAST-MODIFIED:20200903T165151Z
UID:4774-1605636000-1605639600@musicartes.org
SUMMARY:Taller Virtual: Recursos didácticos para docentes de marimba en centros educativos
DESCRIPTION:
URL:https://musicartes.org/event/taller-virtual-recursos-didacticos-para-docentes-de-marimba-en-centros-educativos/
CATEGORIES:Livestream,Taller
ATTACH;FMTTYPE=image/jpeg:https://musicartes.org/wp-content/uploads/2020/09/Recursos-didácticos-para-docentes.jpg
END:VEVENT
BEGIN:VEVENT
DTSTART;TZID=America/Guatemala:20210205T160000
DTEND;TZID=America/Guatemala:20210205T170000
DTSTAMP:20260424T085850
CREATED:20210205T220345Z
LAST-MODIFIED:20210205T220345Z
UID:5396-1612540800-1612544400@musicartes.org
SUMMARY:Taller - ¿Cómo usar la Cartelera Musicates?
DESCRIPTION:Queremos que conozcas todos los beneficios y oportunidades que brinda nuestra cartelera.
URL:https://musicartes.org/event/taller-como-usar-la-cartelera-musicates/
CATEGORIES:Taller
ATTACH;FMTTYPE=image/jpeg:https://musicartes.org/wp-content/uploads/2021/02/Cartelera.jpg
END:VEVENT
BEGIN:VEVENT
DTSTART;TZID=America/Guatemala:20210517T173000
DTEND;TZID=America/Guatemala:20210612T183000
DTSTAMP:20260424T085850
CREATED:20210518T021726Z
LAST-MODIFIED:20210518T021726Z
UID:6017-1621272600-1623522600@musicartes.org
SUMMARY:Encuentro Latinoamericano de Industria Musical
DESCRIPTION:
URL:https://musicartes.org/event/encuentro-latinoamericano-de-industria-musical/
CATEGORIES:Livestream,Taller
ATTACH;FMTTYPE=image/jpeg:https://musicartes.org/wp-content/uploads/2021/05/LATMUS-1.jpg
END:VEVENT
BEGIN:VEVENT
DTSTART;TZID=America/Guatemala:20210618T180000
DTEND;TZID=America/Guatemala:20210618T193000
DTSTAMP:20260424T085850
CREATED:20210618T011726Z
LAST-MODIFIED:20210618T011726Z
UID:6175-1624039200-1624044600@musicartes.org
SUMMARY:Mesa redonda: Músicas Afrodescendientes de América Latina
DESCRIPTION:En el marco de la Fiesta de la Música Internacional 2021 Edición América latina y Caribe\, la red de Alianzas Francesas realizará\, del 14 al 19 de junio\, tres mesas redondas regionales y una masterclass\, las cuales contarán con intervenciones cruzadas de expertos de la región.\nEsta mesa redonda presentará un panorama de la música afrolatino americana\, centrándose más particularmente en la historia y especificidades de movimientos musicales en Perú\, Colombia\, Centroamérica y México.
URL:https://musicartes.org/event/mesa-redonda-musicas-afrodescendientes-de-america-latina/
CATEGORIES:Livestream,Taller
ATTACH;FMTTYPE=image/jpeg:https://musicartes.org/wp-content/uploads/2021/06/Alianza-Francesa.jpg
ORGANIZER;CN="Alianza Francesa Guatemala":MAILTO:mediateca@alianzafrancesa.org.gt
END:VEVENT
BEGIN:VEVENT
DTSTART;TZID=America/Guatemala:20240616T090000
DTEND;TZID=America/Guatemala:20240618T200000
DTSTAMP:20260424T085850
CREATED:20240613T234316Z
LAST-MODIFIED:20240613T234316Z
UID:10251-1718528400-1718740800@musicartes.org
SUMMARY:CAMM Centroamérica Mercado Musical
DESCRIPTION:CAMM Centroamérica Mercado Musical. Únete al primer mercado de la región. En CAMM\, convergen oportunidades emocionantes para artistas y profesionales de la industria\, a nivel nacional e internacional. Este espacio se convierte en el epicentro donde la música se fusiona con la encantadora ciudad sede Antigua Guatemala\, creando una experiencia cultural única. Es aquí donde agentes\, managers\, productores y artistas se encuentran para intercambiar ideas\, conocimientos y forjar negocios que trascienden fronteras\, impulsando la circulación global de la música. Consigue tu acreditación profesional aquí.
URL:https://musicartes.org/event/camm-centroamerica-mercado-musical/
LOCATION:Antigua Guatemala\, Antigua Guatemala\, Guatemala
CATEGORIES:Festival,MasterClass,Taller
ATTACH;FMTTYPE=image/png:https://musicartes.org/wp-content/uploads/2024/06/426478504_722011226707565_358235415569083157_n.png
END:VEVENT
END:VCALENDAR